BEGIN:VCALENDAR
VERSION:2.0
PRODID:-//Impact Safety Systems - ECPv6.15.20//NONSGML v1.0//EN
CALSCALE:GREGORIAN
METHOD:PUBLISH
X-ORIGINAL-URL:https://www.impactsafetyinc.com
X-WR-CALDESC:Events for Impact Safety Systems
REFRESH-INTERVAL;VALUE=DURATION:PT1H
X-Robots-Tag:noindex
X-PUBLISHED-TTL:PT1H
BEGIN:VTIMEZONE
TZID:UTC
BEGIN:STANDARD
TZOFFSETFROM:+0000
TZOFFSETTO:+0000
TZNAME:UTC
DTSTART:20250101T000000
END:STANDARD
END:VTIMEZONE
BEGIN:VEVENT
DTSTART;TZID=UTC:20261208T080000
DTEND;TZID=UTC:20261209T160000
DTSTAMP:20260423T203737
CREATED:20260130T111918Z
LAST-MODIFIED:20260130T111918Z
UID:5508-1796716800-1796832000@www.impactsafetyinc.com
SUMMARY:10 hour OSHA
DESCRIPTION:This one and a half day course provides students with an entry level of recognition\, avoidance\, abatement\, and prevention of safety and health hazards in the construction industry. Students who complete this course will have the opportunity to actively participate in creating a safer workplace by applying the information they were taught during the course. This course is intended for any entry level person that wants to learn how to work safely in the construction industry. Certification will be issued upon successful completion of the course. This certification will not expire; however\, the 8 Hour Annual Safety Training is recommended to stay up to date with news in the industry\, learn about new laws and standards\, and refresh on important topics. \nDay one: 8am-4pm\nDay two: 8am-12pm
URL:https://www.impactsafetyinc.com/event/10-hour-osha/
LOCATION:Impact Safety\, 1328 Augusta West Parkway\, Augusta\, GA\, 30909\, United States
END:VEVENT
BEGIN:VEVENT
DTSTART;TZID=UTC:20261215T080000
DTEND;TZID=UTC:20261217T160000
DTSTAMP:20260423T203737
CREATED:20260130T112033Z
LAST-MODIFIED:20260130T112033Z
UID:5509-1797321600-1797523200@www.impactsafetyinc.com
SUMMARY:EM385 Fall Protection
DESCRIPTION:This three-day course provides the student with in-depth knowledge of safe working practices on construction sites enabling them to identify existing and predictable fall hazards. This course has been designed to comply with 29 CFR OSHA 1926\, ANSI/ASSE Z359.2\, and EM 385-1-1 regulations. Students will develop the skills to perform inspections\, record keeping\, preventive measures\, fall protection systems\, and fall protection equipment. The students will learn the best ways to keep a site safe and compliant through our interactive classroom portion and hands-on activities that allow students to apply their new knowledge. Certification will be issued upon successful completion of the course. Certification does not expire; however\, we recommend refresher training every three years to stay up to date with new systems\, equipment\, and laws.
URL:https://www.impactsafetyinc.com/event/em385-fall-protection-15/
LOCATION:Impact Safety\, 1328 Augusta West Parkway\, Augusta\, GA\, 30909\, United States
END:VEVENT
END:VCALENDAR