BEGIN:VCALENDAR
VERSION:2.0
PRODID:-//Impact Safety Systems - ECPv6.15.20//NONSGML v1.0//EN
CALSCALE:GREGORIAN
METHOD:PUBLISH
X-WR-CALNAME:Impact Safety Systems
X-ORIGINAL-URL:https://www.impactsafetyinc.com
X-WR-CALDESC:Events for Impact Safety Systems
REFRESH-INTERVAL;VALUE=DURATION:PT1H
X-Robots-Tag:noindex
X-PUBLISHED-TTL:PT1H
BEGIN:VTIMEZONE
TZID:UTC
BEGIN:STANDARD
TZOFFSETFROM:+0000
TZOFFSETTO:+0000
TZNAME:UTC
DTSTART:20200101T000000
END:STANDARD
END:VTIMEZONE
BEGIN:VEVENT
DTSTART;TZID=UTC:20240118T080000
DTEND;TZID=UTC:20240118T160000
DTSTAMP:20260424T170712
CREATED:20210302T202550Z
LAST-MODIFIED:20240123T145827Z
UID:4370-1705564800-1705593600@www.impactsafetyinc.com
SUMMARY:FA/CPR
DESCRIPTION:This one day course provides training for response to common first aid emergencies including burns\, cuts\, head/neck/back injuries and more. Students will also learn how to respond to cardiac and breathing emergencies\, including the use of automated external defibrillators. Anyone interested in learning these vital lifesaving skills for medical emergencies should take this course. Certification will be issued upon successful completion of the course. Certification will expire after 2 years.
URL:https://www.impactsafetyinc.com/event/fa-cpr-2/
LOCATION:Impact Safety\, 1328 Augusta West Parkway\, Augusta\, GA\, 30909\, United States
END:VEVENT
BEGIN:VEVENT
DTSTART;TZID=UTC:20240111T080000
DTEND;TZID=UTC:20240111T160000
DTSTAMP:20260424T170712
CREATED:20230122T155723Z
LAST-MODIFIED:20240123T150054Z
UID:4739-1704960000-1704988800@www.impactsafetyinc.com
SUMMARY:FA/CPR
DESCRIPTION:This one day course provides training for response to common first aid emergencies including burns\, cuts\, head/neck/back injuries and more. Students will also learn how to respond to cardiac and breathing emergencies\, including the use of automated external defibrillators. Anyone interested in learning these vital lifesaving skills for medical emergencies should take this course. Certification will be issued upon successful completion of the course. Certification will expire after 2 years.
URL:https://www.impactsafetyinc.com/event/fa-cpr-4/
LOCATION:Impact Safety\, 1328 Augusta West Parkway\, Augusta\, GA\, 30909\, United States
END:VEVENT
BEGIN:VEVENT
DTSTART;TZID=UTC:20231220T080000
DTEND;TZID=UTC:20231222T160000
DTSTAMP:20260424T170712
CREATED:20220209T160912Z
LAST-MODIFIED:20230113T153830Z
UID:4763-1703059200-1703260800@www.impactsafetyinc.com
SUMMARY:EM385 Fall Protection
DESCRIPTION:This three-day course provides the student with in-depth knowledge of safe working practices on construction sites enabling them to identify existing and predictable fall hazards. This course has been designed to comply with 29 CFR OSHA 1926\, ANSI/ASSE Z359.2\, and EM 385-1-1 regulations. Students will develop the skills to perform inspections\, record keeping\, preventive measures\, fall protection systems\, and fall protection equipment. The students will learn the best ways to keep a site safe and compliant through our interactive classroom portion and hands-on activities that allow students to apply their new knowledge. Certification will be issued upon successful completion of the course. Certification does not expire; however\, we recommend refresher training every three years to stay up to date with new systems\, equipment\, and laws.
URL:https://www.impactsafetyinc.com/event/em385-fall-protection-7/
LOCATION:Impact Safety\, 1328 Augusta West Parkway\, Augusta\, GA\, 30909\, United States
END:VEVENT
BEGIN:VEVENT
DTSTART;TZID=UTC:20231214T080000
DTEND;TZID=UTC:20231215T160000
DTSTAMP:20260424T170712
CREATED:20210302T211835Z
LAST-MODIFIED:20230113T153752Z
UID:4400-1702540800-1702656000@www.impactsafetyinc.com
SUMMARY:OSHA 10 Hr
DESCRIPTION:This one and a half day course provides students with an entry level of recognition\, avoidance\, abatement\, and prevention of safety and health hazards in the construction industry. Students who complete this course will have the opportunity to actively participate in creating a safer workplace by applying the information they were taught during the course. This course is intended for any entry level person that wants to learn how to work safely in the construction industry. Certification will be issued upon successful completion of the course. This certification will not expire; however\, the 8 Hour Annual Safety Training is recommended to stay up to date with news in the industry\, learn about new laws and standards\, and refresh on important topics. \nDay one: 8am-4pm\nDay two: 8am-12pm
URL:https://www.impactsafetyinc.com/event/osha-10-hr-2/
LOCATION:Impact Safety\, 1328 Augusta West Parkway\, Augusta\, GA\, 30909\, United States
END:VEVENT
BEGIN:VEVENT
DTSTART;TZID=UTC:20230907T080000
DTEND;TZID=UTC:20230907T160000
DTSTAMP:20260424T170712
CREATED:20191104T195552Z
LAST-MODIFIED:20230113T153306Z
UID:3870-1694073600-1694102400@www.impactsafetyinc.com
SUMMARY:Confined Space Entry
DESCRIPTION:This half to full-day course teaches students the characteristics of confined spaces and how to safely enter/exit a permit-required confined space. The student will also learn the requirements and duties of the Supervisor\, Entrant\, and Attendant. Anyone that enters a permit-required confined space must complete confined space entry training. Certification will be issued upon successful completion of the course. Certification will not expire; however\, we recommend that students attend refresher training every three years.
URL:https://www.impactsafetyinc.com/event/confined-space-entry-39/
LOCATION:Impact Safety\, 1328 Augusta West Parkway\, Augusta\, GA\, 30909\, United States
END:VEVENT
BEGIN:VEVENT
DTSTART;TZID=UTC:20230502T080000
DTEND;TZID=UTC:20230505T160000
DTSTAMP:20260424T170712
CREATED:20210302T201832Z
LAST-MODIFIED:20230113T152316Z
UID:4356-1683014400-1683302400@www.impactsafetyinc.com
SUMMARY:OSHA 30 Hr
DESCRIPTION:This four day course provides students with a supervisory level of recognition\, avoidance\, abatement\, and prevention of safety and health hazards in general industry. Students who complete this course will be presented with the information they will need to prepare for a role involving safety responsibility in general industry work sites. This course is appropriate for any person in a supervisory role that has safety responsibilities in general industry. Certification will be issued upon successful completion of the course. The certification will not expire; however\, the 8 Hour Annual Safety Training is recommended to stay up to date with news in the industry\, learn about new laws and standards\, and refresh on important topics.
URL:https://www.impactsafetyinc.com/event/osha-30-hr/
LOCATION:GA
END:VEVENT
BEGIN:VEVENT
DTSTART;TZID=UTC:20230313T080000
DTEND;TZID=UTC:20230313T080000
DTSTAMP:20260424T170712
CREATED:20230209T195029Z
LAST-MODIFIED:20230209T195029Z
UID:4986-1678694400-1678694400@www.impactsafetyinc.com
SUMMARY:GA Utility Refresher
DESCRIPTION:
URL:https://www.impactsafetyinc.com/event/ga-utility-refresher-2/
LOCATION:Impact Safety\, 1328 Augusta West Parkway\, Augusta\, GA\, 30909\, United States
END:VEVENT
BEGIN:VEVENT
DTSTART;TZID=UTC:20230224T080000
DTEND;TZID=UTC:20230224T080000
DTSTAMP:20260424T170712
CREATED:20180323T175010Z
LAST-MODIFIED:20230209T194755Z
UID:3044-1677225600-1677225600@www.impactsafetyinc.com
SUMMARY:GA Utility Refresher
DESCRIPTION:
URL:https://www.impactsafetyinc.com/event/ga-utility-refresher/
LOCATION:Impact Safety\, 1328 Augusta West Parkway\, Augusta\, GA\, 30909\, United States
END:VEVENT
BEGIN:VEVENT
DTSTART;TZID=UTC:20230123T080000
DTEND;TZID=UTC:20230127T160000
DTSTAMP:20260424T170712
CREATED:20210302T202623Z
LAST-MODIFIED:20230113T154846Z
UID:4372-1674460800-1674835200@www.impactsafetyinc.com
SUMMARY:40 Hr Hazwoper
DESCRIPTION:This five day course prepares students to identify safety concerns and take offensive measures relating to hazardous waste on the job site. Students will be presented with the hands-on scenarios that will help them to develop the skills to respond quickly and safely to hazardous materials accidents. This course is required for any person that may perform activities that will expose or potentially expose them to hazardous substances\, or any person working on a project consisting of uncontrolled hazardous waste operation mandated by the government. Certification will be issued upon successful completion of the course. The certification will expire after one year. The 8 Hour HAZWOPER Refresher course must be taken annually\, beginning one year after initial certification is received.
URL:https://www.impactsafetyinc.com/event/40-hr-hazwoper/
LOCATION:Impact Safety\, 1328 Augusta West Parkway\, Augusta\, GA\, 30909\, United States
END:VEVENT
BEGIN:VEVENT
DTSTART;TZID=UTC:20221115T080000
DTEND;TZID=UTC:20221117T160000
DTSTAMP:20260424T170712
CREATED:20220209T163512Z
LAST-MODIFIED:20220209T163512Z
UID:4785-1668499200-1668700800@www.impactsafetyinc.com
SUMMARY:OSHA 30 Hr
DESCRIPTION:
URL:https://www.impactsafetyinc.com/event/osha-30-hr-3/
LOCATION:Impact Safety\, 1328 Augusta West Parkway\, Augusta\, GA\, 30909\, United States
END:VEVENT
BEGIN:VEVENT
DTSTART;TZID=UTC:20221011T080000
DTEND;TZID=UTC:20221013T160000
DTSTAMP:20260424T170712
CREATED:20220209T160845Z
LAST-MODIFIED:20220209T160845Z
UID:4761-1665475200-1665676800@www.impactsafetyinc.com
SUMMARY:EM385 Fall Protection
DESCRIPTION:This three-day course provides the student with in-depth knowledge of safe working practices on construction sites enabling them to identify existing and predictable fall hazards. This course has been designed to comply with 29 CFR OSHA 1926\, ANSI/ASSE Z359.2\, and EM 385-1-1 regulations. Students will develop the skills to perform inspections\, record keeping\, preventive measures\, fall protection systems\, and fall protection equipment. The students will learn the best ways to keep a site safe and compliant through our interactive classroom portion and hands-on activities that allow students to apply their new knowledge. Certification will be issued upon successful completion of the course. Certification does not expire; however\, we recommend refresher training every three years to stay up to date with new systems\, equipment\, and laws.
URL:https://www.impactsafetyinc.com/event/em385-fall-protection-6/
LOCATION:Impact Safety\, 1328 Augusta West Parkway\, Augusta\, GA\, 30909\, United States
END:VEVENT
BEGIN:VEVENT
DTSTART;TZID=UTC:20220913T080000
DTEND;TZID=UTC:20220915T160000
DTSTAMP:20260424T170712
CREATED:20220209T160818Z
LAST-MODIFIED:20220209T160818Z
UID:4759-1663056000-1663257600@www.impactsafetyinc.com
SUMMARY:EM385 Fall Protection
DESCRIPTION:This three-day course provides the student with in-depth knowledge of safe working practices on construction sites enabling them to identify existing and predictable fall hazards. This course has been designed to comply with 29 CFR OSHA 1926\, ANSI/ASSE Z359.2\, and EM 385-1-1 regulations. Students will develop the skills to perform inspections\, record keeping\, preventive measures\, fall protection systems\, and fall protection equipment. The students will learn the best ways to keep a site safe and compliant through our interactive classroom portion and hands-on activities that allow students to apply their new knowledge. Certification will be issued upon successful completion of the course. Certification does not expire; however\, we recommend refresher training every three years to stay up to date with new systems\, equipment\, and laws.
URL:https://www.impactsafetyinc.com/event/em385-fall-protection-5/
LOCATION:Impact Safety\, 1328 Augusta West Parkway\, Augusta\, GA\, 30909\, United States
END:VEVENT
BEGIN:VEVENT
DTSTART;TZID=UTC:20220816T080000
DTEND;TZID=UTC:20220818T160000
DTSTAMP:20260424T170712
CREATED:20220209T160750Z
LAST-MODIFIED:20220209T160750Z
UID:4757-1660636800-1660838400@www.impactsafetyinc.com
SUMMARY:EM385 Fall Protection
DESCRIPTION:This three-day course provides the student with in-depth knowledge of safe working practices on construction sites enabling them to identify existing and predictable fall hazards. This course has been designed to comply with 29 CFR OSHA 1926\, ANSI/ASSE Z359.2\, and EM 385-1-1 regulations. Students will develop the skills to perform inspections\, record keeping\, preventive measures\, fall protection systems\, and fall protection equipment. The students will learn the best ways to keep a site safe and compliant through our interactive classroom portion and hands-on activities that allow students to apply their new knowledge. Certification will be issued upon successful completion of the course. Certification does not expire; however\, we recommend refresher training every three years to stay up to date with new systems\, equipment\, and laws.
URL:https://www.impactsafetyinc.com/event/em385-fall-protection-4/
LOCATION:Impact Safety\, 1328 Augusta West Parkway\, Augusta\, GA\, 30909\, United States
END:VEVENT
BEGIN:VEVENT
DTSTART;TZID=UTC:20220802T080000
DTEND;TZID=UTC:20220802T160000
DTSTAMP:20260424T170712
CREATED:20210302T204124Z
LAST-MODIFIED:20220209T163755Z
UID:4378-1659427200-1659456000@www.impactsafetyinc.com
SUMMARY:Fall Protection Competent Person
DESCRIPTION:This one day course will teach students to identify existing and predictable fall hazards in the work environment. Students will attain the knowledge and skills to perform annual inspections\, record keeping\, and preventive measures to keep a site safe and compliant. This course is intended for site supervisors who are authorized to take prompt corrective measures to eliminate hazards. Certification will be issued upon successful completion of the course. Certification does not expire; however\, we recommend refresher training every three years to stay up to date with new systems\, equipment\, and laws.
URL:https://www.impactsafetyinc.com/event/fall-protection-competent-person-14/
LOCATION:Impact Safety\, 1328 Augusta West Parkway\, Augusta\, GA\, 30909\, United States
END:VEVENT
BEGIN:VEVENT
DTSTART;TZID=UTC:20220721T080000
DTEND;TZID=UTC:20220721T160000
DTSTAMP:20260424T170712
CREATED:20220209T160149Z
LAST-MODIFIED:20220209T160149Z
UID:4749-1658390400-1658419200@www.impactsafetyinc.com
SUMMARY:HazMat Refresher
DESCRIPTION:
URL:https://www.impactsafetyinc.com/event/hazmat-refresher-2/
LOCATION:Impact Safety\, 1328 Augusta West Parkway\, Augusta\, GA\, 30909\, United States
END:VEVENT
BEGIN:VEVENT
DTSTART;TZID=UTC:20220712T080000
DTEND;TZID=UTC:20220714T160000
DTSTAMP:20260424T170712
CREATED:20220209T160716Z
LAST-MODIFIED:20220209T160716Z
UID:4755-1657612800-1657814400@www.impactsafetyinc.com
SUMMARY:EM385 Fall Protection
DESCRIPTION:This three-day course provides the student with in-depth knowledge of safe working practices on construction sites enabling them to identify existing and predictable fall hazards. This course has been designed to comply with 29 CFR OSHA 1926\, ANSI/ASSE Z359.2\, and EM 385-1-1 regulations. Students will develop the skills to perform inspections\, record keeping\, preventive measures\, fall protection systems\, and fall protection equipment. The students will learn the best ways to keep a site safe and compliant through our interactive classroom portion and hands-on activities that allow students to apply their new knowledge. Certification will be issued upon successful completion of the course. Certification does not expire; however\, we recommend refresher training every three years to stay up to date with new systems\, equipment\, and laws.
URL:https://www.impactsafetyinc.com/event/em385-fall-protection-3/
LOCATION:Impact Safety\, 1328 Augusta West Parkway\, Augusta\, GA\, 30909\, United States
END:VEVENT
BEGIN:VEVENT
DTSTART;TZID=UTC:20220602T080000
DTEND;TZID=UTC:20220603T160000
DTSTAMP:20260424T170712
CREATED:20220209T154800Z
LAST-MODIFIED:20220209T154800Z
UID:4726-1654156800-1654272000@www.impactsafetyinc.com
SUMMARY:Confined Space Rescue
DESCRIPTION:
URL:https://www.impactsafetyinc.com/event/confined-space-rescue-7/
LOCATION:Impact Safety\, 1328 Augusta West Parkway\, Augusta\, GA\, 30909\, United States
END:VEVENT
BEGIN:VEVENT
DTSTART;TZID=UTC:20220503T080000
DTEND;TZID=UTC:20220506T160000
DTSTAMP:20260424T170712
CREATED:20210302T211256Z
LAST-MODIFIED:20220209T160258Z
UID:4392-1651564800-1651852800@www.impactsafetyinc.com
SUMMARY:OSHA 30 Hr
DESCRIPTION:
URL:https://www.impactsafetyinc.com/event/osha-30-hr-2/
LOCATION:Impact Safety\, 1328 Augusta West Parkway\, Augusta\, GA\, 30909\, United States
END:VEVENT
BEGIN:VEVENT
DTSTART;TZID=UTC:20220421T080000
DTEND;TZID=UTC:20220421T160000
DTSTAMP:20260424T170712
CREATED:20220209T160123Z
LAST-MODIFIED:20220209T160123Z
UID:4747-1650528000-1650556800@www.impactsafetyinc.com
SUMMARY:HazMat Refresher
DESCRIPTION:
URL:https://www.impactsafetyinc.com/event/hazmat-refresher/
LOCATION:Impact Safety\, 1328 Augusta West Parkway\, Augusta\, GA\, 30909\, United States
END:VEVENT
BEGIN:VEVENT
DTSTART;TZID=UTC:20220418T080000
DTEND;TZID=UTC:20220422T160000
DTSTAMP:20260424T170712
CREATED:20220209T155915Z
LAST-MODIFIED:20220209T155915Z
UID:4741-1650268800-1650643200@www.impactsafetyinc.com
SUMMARY:Hazmat Tech
DESCRIPTION:
URL:https://www.impactsafetyinc.com/event/hazmat-tech/
LOCATION:Impact Safety\, 1328 Augusta West Parkway\, Augusta\, GA\, 30909\, United States
END:VEVENT
BEGIN:VEVENT
DTSTART;TZID=UTC:20220415T080000
DTEND;TZID=UTC:20220415T160000
DTSTAMP:20260424T170713
CREATED:20220209T155644Z
LAST-MODIFIED:20220209T155644Z
UID:4736-1650009600-1650038400@www.impactsafetyinc.com
SUMMARY:FA/CPR
DESCRIPTION:This one day course provides training for response to common first aid emergencies including burns\, cuts\, head/neck/back injuries and more. Students will also learn how to respond to cardiac and breathing emergencies\, including the use of automated external defibrillators. Anyone interested in learning these vital lifesaving skills for medical emergencies should take this course. Certification will be issued upon successful completion of the course. Certification will expire after 2 years.
URL:https://www.impactsafetyinc.com/event/fa-cpr-3/
LOCATION:Impact Safety\, 1328 Augusta West Parkway\, Augusta\, GA\, 30909\, United States
END:VEVENT
BEGIN:VEVENT
DTSTART;TZID=UTC:20220303T080000
DTEND;TZID=UTC:20220304T160000
DTSTAMP:20260424T170713
CREATED:20210302T211606Z
LAST-MODIFIED:20220209T154701Z
UID:4394-1646294400-1646409600@www.impactsafetyinc.com
SUMMARY:Confined Space Rescue
DESCRIPTION:
URL:https://www.impactsafetyinc.com/event/confined-space-rescue-6/
LOCATION:Impact Safety\, 1328 Augusta West Parkway\, Augusta\, GA\, 30909\, United States
END:VEVENT
BEGIN:VEVENT
DTSTART;TZID=UTC:20220211T080000
DTEND;TZID=UTC:20220211T160000
DTSTAMP:20260424T170713
CREATED:20210302T210819Z
LAST-MODIFIED:20220209T154400Z
UID:4390-1644566400-1644595200@www.impactsafetyinc.com
SUMMARY:Scaffold Competent Person
DESCRIPTION:This full day course is designed for workers that will be responsible for supervising the erection and dismantlement of scaffolds. Also\, the student will be able to perform required pre-shift inspections of the scaffold equipment that will be used during shift. At least one scaffold competent person must be on site while working with scaffolding equipment. Certification will be issued upon successful completion of the course.
URL:https://www.impactsafetyinc.com/event/scaffold-competent-person-18/
LOCATION:Impact Safety\, 1328 Augusta West Parkway\, Augusta\, GA\, 30909\, United States
END:VEVENT
BEGIN:VEVENT
DTSTART;TZID=UTC:20211215T080000
DTEND;TZID=UTC:20211217T160000
DTSTAMP:20260424T170713
CREATED:20210302T211908Z
LAST-MODIFIED:20210429T170047Z
UID:4402-1639555200-1639756800@www.impactsafetyinc.com
SUMMARY:EM385 Fall Protection
DESCRIPTION:This three-day course provides the student with in-depth knowledge of safe working practices on construction sites enabling them to identify existing and predictable fall hazards. This course has been designed to comply with 29 CFR OSHA 1926\, ANSI/ASSE Z359.2\, and EM 385-1-1 regulations. Students will develop the skills to perform inspections\, record keeping\, preventive measures\, fall protection systems\, and fall protection equipment. The students will learn the best ways to keep a site safe and compliant through our interactive classroom portion and hands-on activities that allow students to apply their new knowledge. Certification will be issued upon successful completion of the course. Certification does not expire; however\, we recommend refresher training every three years to stay up to date with new systems\, equipment\, and laws.
URL:https://www.impactsafetyinc.com/event/em385-fall-protection-2/
LOCATION:Impact Safety\, 1328 Augusta West Parkway\, Augusta\, GA\, 30909\, United States
END:VEVENT
BEGIN:VEVENT
DTSTART;TZID=UTC:20211103T080000
DTEND;TZID=UTC:20211103T160000
DTSTAMP:20260424T170713
CREATED:20210302T211747Z
LAST-MODIFIED:20210302T211747Z
UID:4398-1635926400-1635955200@www.impactsafetyinc.com
SUMMARY:Confined Space Rescue Refresh
DESCRIPTION:
URL:https://www.impactsafetyinc.com/event/confined-space-rescue-refresh-3/
LOCATION:Impact Safety\, 1328 Augusta West Parkway\, Augusta\, GA\, 30909\, United States
END:VEVENT
BEGIN:VEVENT
DTSTART;TZID=UTC:20210903T080000
DTEND;TZID=UTC:20210903T160000
DTSTAMP:20260424T170713
CREATED:20210302T210722Z
LAST-MODIFIED:20210429T165643Z
UID:4388-1630656000-1630684800@www.impactsafetyinc.com
SUMMARY:Confined Space Rescue Refresh
DESCRIPTION:This one day course reviews lessons learned in Confined Space Entry and Rescue while providing an update on any changes in the industry. This course meets the annual refresher training required by OSHA 29 CFR Part 1910.146. All participants must successfully complete the Confined Space Entry and Rescue prerequisites before attending this 1-day minimum refresher course. Certification will be issued upon successful completion of the course. Training will need to be refreshed annually.
URL:https://www.impactsafetyinc.com/event/confined-space-rescue-refresh-2/
LOCATION:Impact Safety\, 1328 Augusta West Parkway\, Augusta\, GA\, 30909\, United States
END:VEVENT
BEGIN:VEVENT
DTSTART;TZID=UTC:20210903T080000
DTEND;TZID=UTC:20210903T160000
DTSTAMP:20260424T170713
CREATED:20210302T210447Z
LAST-MODIFIED:20210302T210447Z
UID:4386-1630656000-1630684800@www.impactsafetyinc.com
SUMMARY:Confined Space Entry
DESCRIPTION:This full-day course teaches students the characteristics of confined spaces and how to safely enter/exit a permit-required confined space. The student will also learn the requirements and duties of the Supervisor\, Entrant\, and Attendant. Anyone that enters a permit-required confined space must complete confined space entry training. Certification will be issued upon successful completion of the course. Certification will not expire; however\, we recommend that students attend refresher training every three years.
URL:https://www.impactsafetyinc.com/event/confined-space-entry-33/
LOCATION:Impact Safety\, 1328 Augusta West Parkway\, Augusta\, GA\, 30909\, United States
END:VEVENT
BEGIN:VEVENT
DTSTART;TZID=UTC:20210902T080000
DTEND;TZID=UTC:20210903T160000
DTSTAMP:20260424T170713
CREATED:20210302T205814Z
LAST-MODIFIED:20210429T165831Z
UID:4382-1630569600-1630684800@www.impactsafetyinc.com
SUMMARY:Confined Space Rescue
DESCRIPTION:This two day minimum course teaches the technical rescue and recovery of victims trapped in a confined space\, or in a place accessible only through a confined space\, such as storage silos\, storage tanks\, sewers\, or underground vaults. Students will have the opportunity to practice entering and rescuing victims trapped in vessels with both horizontal and vertical rescue scenarios using a large confined space prop. Certification will be issued upon successful completion of the course. Certification will expire after one year. Eight hours of rescue refresher training must be completed annually after the first year.
URL:https://www.impactsafetyinc.com/event/confined-space-rescue-5/
LOCATION:Impact Safety\, 1328 Augusta West Parkway\, Augusta\, GA\, 30909\, United States
END:VEVENT
BEGIN:VEVENT
DTSTART;TZID=UTC:20210812T080000
DTEND;TZID=UTC:20210812T160000
DTSTAMP:20260424T170713
CREATED:20210302T204227Z
LAST-MODIFIED:20210302T204227Z
UID:4380-1628755200-1628784000@www.impactsafetyinc.com
SUMMARY:Scaffold Competent Person
DESCRIPTION:This full day course is designed for workers that will be responsible for supervising the erection and dismantlement of scaffolds. Also\, the student will be able to perform required pre-shift inspections of the scaffold equipment that will be used during shift. At least one scaffold competent person must be on site while working with scaffolding equipment. Certification will be issued upon successful completion of the course.
URL:https://www.impactsafetyinc.com/event/scaffold-competent-person-17/
LOCATION:Impact Safety\, 1328 Augusta West Parkway\, Augusta\, GA\, 30909\, United States
END:VEVENT
BEGIN:VEVENT
DTSTART;TZID=UTC:20210721T080000
DTEND;TZID=UTC:20210721T160000
DTSTAMP:20260424T170713
CREATED:20210302T203945Z
LAST-MODIFIED:20210302T203945Z
UID:4376-1626854400-1626883200@www.impactsafetyinc.com
SUMMARY:8 Hr Hazwoper Refresh
DESCRIPTION:This one day course is an annual refresher training class designed for any emergency response worker or hazardous waste site worker who holds an existing 24-Hr. or 40-Hr. HAZWOPER certification. Refresher certification will be issued upon successful completion of course.
URL:https://www.impactsafetyinc.com/event/8-hr-hazwoper-refresh-2/
LOCATION:Impact Safety\, 1328 Augusta West Parkway\, Augusta\, GA\, 30909\, United States
END:VEVENT
END:VCALENDAR