BEGIN:VCALENDAR
VERSION:2.0
PRODID:-//Impact Safety Systems - ECPv6.15.20//NONSGML v1.0//EN
CALSCALE:GREGORIAN
METHOD:PUBLISH
X-WR-CALNAME:Impact Safety Systems
X-ORIGINAL-URL:https://www.impactsafetyinc.com
X-WR-CALDESC:Events for Impact Safety Systems
REFRESH-INTERVAL;VALUE=DURATION:PT1H
X-Robots-Tag:noindex
X-PUBLISHED-TTL:PT1H
BEGIN:VTIMEZONE
TZID:UTC
BEGIN:STANDARD
TZOFFSETFROM:+0000
TZOFFSETTO:+0000
TZNAME:UTC
DTSTART:20250101T000000
END:STANDARD
END:VTIMEZONE
BEGIN:VEVENT
DTSTART;TZID=UTC:20260616T080000
DTEND;TZID=UTC:20260617T160000
DTSTAMP:20260423T215711
CREATED:20260130T110645Z
LAST-MODIFIED:20260130T110645Z
UID:5500-1781596800-1781712000@www.impactsafetyinc.com
SUMMARY:OSHA 10 Hr
DESCRIPTION:This one and a half day course provides students with an entry level of recognition\, avoidance\, abatement\, and prevention of safety and health hazards in the construction industry. Students who complete this course will have the opportunity to actively participate in creating a safer workplace by applying the information they were taught during the course. This course is intended for any entry level person that wants to learn how to work safely in the construction industry. Certification will be issued upon successful completion of the course. This certification will not expire; however\, the 8 Hour Annual Safety Training is recommended to stay up to date with news in the industry\, learn about new laws and standards\, and refresh on important topics. \nDay one: 8am-4pm\nDay two: 8am-12pm
URL:https://www.impactsafetyinc.com/event/osha-10-hr-5/
LOCATION:Impact Safety\, 1328 Augusta West Parkway\, Augusta\, GA\, 30909\, United States
END:VEVENT
END:VCALENDAR