BEGIN:VCALENDAR
VERSION:2.0
PRODID:-//Impact Safety Systems - ECPv6.15.20//NONSGML v1.0//EN
CALSCALE:GREGORIAN
METHOD:PUBLISH
X-WR-CALNAME:Impact Safety Systems
X-ORIGINAL-URL:https://www.impactsafetyinc.com
X-WR-CALDESC:Events for Impact Safety Systems
REFRESH-INTERVAL;VALUE=DURATION:PT1H
X-Robots-Tag:noindex
X-PUBLISHED-TTL:PT1H
BEGIN:VTIMEZONE
TZID:UTC
BEGIN:STANDARD
TZOFFSETFROM:+0000
TZOFFSETTO:+0000
TZNAME:UTC
DTSTART:20250101T000000
END:STANDARD
END:VTIMEZONE
BEGIN:VEVENT
DTSTART;TZID=UTC:20260604T080000
DTEND;TZID=UTC:20260605T160000
DTSTAMP:20260423T202350
CREATED:20260130T110228Z
LAST-MODIFIED:20260130T110228Z
UID:5497-1780560000-1780675200@www.impactsafetyinc.com
SUMMARY:Confined Space Rescue
DESCRIPTION:
URL:https://www.impactsafetyinc.com/event/confined-space-rescue-13/
LOCATION:Impact Safety\, 1328 Augusta West Parkway\, Augusta\, GA\, 30909\, United States
END:VEVENT
BEGIN:VEVENT
DTSTART;TZID=UTC:20260605T080000
DTEND;TZID=UTC:20260605T160000
DTSTAMP:20260423T202350
CREATED:20260130T110549Z
LAST-MODIFIED:20260130T110549Z
UID:5499-1780646400-1780675200@www.impactsafetyinc.com
SUMMARY:Confined Space Rescue Refresher
DESCRIPTION:
URL:https://www.impactsafetyinc.com/event/confined-space-rescue-refresher-31/
LOCATION:Impact Safety\, 1328 Augusta West Parkway\, Augusta\, GA\, 30909\, United States
END:VEVENT
END:VCALENDAR