BEGIN:VCALENDAR
VERSION:2.0
PRODID:-//Impact Safety Systems - ECPv6.15.20//NONSGML v1.0//EN
CALSCALE:GREGORIAN
METHOD:PUBLISH
X-WR-CALNAME:Impact Safety Systems
X-ORIGINAL-URL:https://www.impactsafetyinc.com
X-WR-CALDESC:Events for Impact Safety Systems
REFRESH-INTERVAL;VALUE=DURATION:PT1H
X-Robots-Tag:noindex
X-PUBLISHED-TTL:PT1H
BEGIN:VTIMEZONE
TZID:UTC
BEGIN:STANDARD
TZOFFSETFROM:+0000
TZOFFSETTO:+0000
TZNAME:UTC
DTSTART:20250101T000000
END:STANDARD
END:VTIMEZONE
BEGIN:VEVENT
DTSTART;TZID=UTC:20260317T080000
DTEND;TZID=UTC:20260319T160000
DTSTAMP:20260423T202445
CREATED:20260130T100955Z
LAST-MODIFIED:20260130T100955Z
UID:5493-1773734400-1773936000@www.impactsafetyinc.com
SUMMARY:EM385 Fall Protection
DESCRIPTION:This three-day course provides the student with in-depth knowledge of safe working practices on construction sites enabling them to identify existing and predictable fall hazards. This course has been designed to comply with 29 CFR OSHA 1926\, ANSI/ASSE Z359.2\, and EM 385-1-1 regulations. Students will develop the skills to perform inspections\, record keeping\, preventive measures\, fall protection systems\, and fall protection equipment. The students will learn the best ways to keep a site safe and compliant through our interactive classroom portion and hands-on activities that allow students to apply their new knowledge. Certification will be issued upon successful completion of the course. Certification does not expire; however\, we recommend refresher training every three years to stay up to date with new systems\, equipment\, and laws.
URL:https://www.impactsafetyinc.com/event/em385-fall-protection-12/
LOCATION:Impact Safety\, 1328 Augusta West Parkway\, Augusta\, GA\, 30909\, United States
END:VEVENT
END:VCALENDAR