BEGIN:VCALENDAR
VERSION:2.0
PRODID:-//Impact Safety Systems - ECPv6.15.20//NONSGML v1.0//EN
CALSCALE:GREGORIAN
METHOD:PUBLISH
X-WR-CALNAME:Impact Safety Systems
X-ORIGINAL-URL:https://www.impactsafetyinc.com
X-WR-CALDESC:Events for Impact Safety Systems
REFRESH-INTERVAL;VALUE=DURATION:PT1H
X-Robots-Tag:noindex
X-PUBLISHED-TTL:PT1H
BEGIN:VTIMEZONE
TZID:UTC
BEGIN:STANDARD
TZOFFSETFROM:+0000
TZOFFSETTO:+0000
TZNAME:UTC
DTSTART:20250101T000000
END:STANDARD
END:VTIMEZONE
BEGIN:VEVENT
DTSTART;TZID=UTC:20260313T080000
DTEND;TZID=UTC:20260313T080000
DTSTAMP:20260423T234039
CREATED:20260130T101120Z
LAST-MODIFIED:20260130T101120Z
UID:5494-1773388800-1773388800@www.impactsafetyinc.com
SUMMARY:Scaffold Competent Person
DESCRIPTION:This full day course is designed for workers that will be responsible for supervising the erection and dismantlement of scaffolds. Also\, the student will be able to perform required pre-shift inspections of the scaffold equipment that will be used during shift. At least one scaffold competent person must be on site while working with scaffolding equipment. Certification will be issued upon successful completion of the course.
URL:https://www.impactsafetyinc.com/event/scaffold-competent-person-21/
LOCATION:Impact Safety\, 1328 Augusta West Parkway\, Augusta\, GA\, 30909\, United States
END:VEVENT
END:VCALENDAR